{"text_format":"1","workbook":"xlsx","n_sheets":2,"sheets":["estimación_espesor_corteza","base_de_datos"],"not_rendered":{"charts":1,"images":3,"macros":1,"external_links":0,"defined_names":0,"comments":0,"pivot_tables":0},"unopened":[],"bounds":{"document_bytes":16777216,"sheet_cells":100000,"rows_first":2000,"rows_last":500,"rows_between":2000,"halvings":0,"cell_chars":16384,"cell_head_chars":4096},"cells_cut":0,"cells_raw":0,"read":"whole","date_system":"1900"}

{"sheet":"estimación_espesor_corteza","index":0,"n_rows":23,"n_cols":16,"rows_kept":23,"cut":false,"hidden":false,"merged":[[0,0,0,9],[23,0,33,15],[0,16,33,18],[1,3,2,3],[1,4,20,15],[21,4,21,5],[22,4,22,5],[21,12,21,14],[21,6,21,11],[22,6,22,11],[22,12,22,14]]}
["BARK THICKNESS VULNERABILITY (VBtApp®)"]
["Especie\n","Diámetro normal del árbol (cm)","Altura total del árbol (m)"]
[]
["Altura de sección\n (m)","Radio del tronco\n(cm)","Espesor de corteza\n(cm)","Radio sin corteza\n(cm)"]
[]
[]
[]
[]
[]
[]
[]
[]
[]
[]
[]
[]
[]
[]
[]
[]
[]
[null,null,null,null,"Quemas prescritas",null,{"$f":"base_de_datos!BC24","v":"Aptitud muy baja  (poco apta para ejecución de quemas prescritas)"},null,null,null,null,null,{"$f":"base_de_datos!BC21","v":"El espesor no llega a 1 cm"},null,null,"m"]
[null,null,null,null,"Incendios de superficie",null,{"$f":"base_de_datos!AS24","v":"Vulnerabilidad extrema a incendios de superficie"},null,null,null,null,null,{"$f":"base_de_datos!AS21","v":"El espesor no llega a 2 cm"},null,null,"m"]

{"sheet":"base_de_datos","index":1,"n_rows":27,"n_cols":72,"rows_kept":27,"cut":false,"hidden":false,"merged":[]}
["Especie\n","Diámetro normal del árbol\n(D)","Altura total del Árbol\n(H)","Altura del tronco a la que se alcanza el diámetro d (m)","h/H","MODELO 1\nPerfil con corteza\n(d)","MODELO 1 y 2\nEspesor con corteza\n(ec)","MODELO 1\nDiámetro sin corteza\n(disc)","MODELO 1\n1er sumando\n(perfil)","MODELO 1\n2º sumando\n(perfil)","MODELO 1\n3er sumando\n(perfil)","MODELO 1\n4º sumando\n(perfil)","MODELO 1\nDividiendo Diámetro sin corteza","MODELO 1\nespesor de corteza \n(cm)","MODELO 2\nμ","MODELO 2\na","MODELO 2\nlog(hij/hti)","MODELO 2\na x log(hij/hti)","MODELO 2\nb x dni","MODELO 2\nc x hti","MODELO 2\nEspesor de corteza \ncort ij (previo1)\n(mm)","MODELO 2\nEspesor de corteza\ncort ij (previo 2) \n(mm)","MODELO 2\nAltura con espesor 20 mm","MODELO\nAltura con espesor\ndividir","MODELO\nexponencial de la altura","MODELO\nLimite de resistencia al fuego",null,"b1","b2","b3","a","b","c","f","u",null,null,null,null,null,null,null,null,null,null,null,null,null,null,null,null,null,null,null,null,null,"Especie","b1","b2","b3","a","b","c","f","u","Especie",null,null,"quema prescrita",null,"incendios de superficie"]
[{"$f":"estimación_espesor_corteza!A3","v":0},{"$f":"estimación_espesor_corteza!B3","v":0},{"$f":"estimación_espesor_corteza!C3","v":0},0.95,{"$f":"D2*$C$2","v":0},{"$f":"2*(I2+J2+K2-L2)","v":{"$error":"#DIV/0!"}},{"$f":"IF(OR($A$2=\"pinus sylvestris\",$A$2=\"pinus pinaster\",$A$2=\"pinus radiata\"),N2,V2)","v":0},{"$f":"F2/M2","v":{"$error":"#DIV/0!"}},{"$f":"$AB$2*$B$2/(1-EXP($AD$2*(1.3-$C$2)))","v":{"$error":"#DIV/0!"}},{"$f":"($B$2/2-AB2*$B$2)*(1-1/(1-EXP(AC2*(1.3-$C$2))))","v":{"$error":"#DIV/0!"}},{"$f":"EXP(-AC2*E2)*((B2/2-$AB$2*$B$2)*EXP(1.3*AC2)/(1-EXP(AC2*(1.3-$C$2))))","v":{"$error":"#DIV/0!"}},{"$f":"EXP($AD$2*E2)*$AB$2*$B$2*EXP(-$AD$2*$C$2)/(1-EXP($AD$2*(1.3-$C$2)))","v":{"$error":"#DIV/0!"}},{"$f":"1+EXP($AE$2+($AG$2*$B$2)+$AH$2*($C$2-E2))","v":2},{"$f":"F2-H2","v":{"$error":"#DIV/0!"}},{"$f":"$AI$2","v":0},{"$f":"$AE$2","v":0},{"$f":"IF(D2=0,0,LOG10(D2))","v":-2.2276394711152253E-2},{"$f":"P2*Q2","v":0},{"$f":"$AF$2*$B$2","v":0},{"$f":"$AG$2*$C$2","v":0},{"$f":"(O2+R2+S2+T2)","v":0},{"$f":"IF(U2<=0,0,U2/10)","v":0},{"$f":"(20-($AI$2)-($AF$2*$B$2)-($AG$2*$C$2))","v":20},{"$f":"W2/$AE$2","v":{"$error":"#DIV/0!"}},{"$f":"EXP(X2)","v":{"$error":"#DIV/0!"}},{"$f":"Y2*$C$2","v":{"$error":"#DIV/0!"}},null,{"$f":"IF($A$2=\"pinus sylvestris\",$BF$2,IF($A$2=\"pinus pinaster\",$BF$3,IF($A$2=\"pinus radiata\",$BF$4,IF($A$2=\"pinus pinea\",$BF$5,0))))","v":0},{"$f":"IF($A$2=\"pinus sylvestris\",$BG$2,IF($A$2=\"pinus pinaster\",$BG$3,IF($A$2=\"pinus radiata\",$BG$4,IF($A$2=\"pinus pinea\",$BG$5,0))))","v":0},{"$f":"IF($A$2=\"pinus sylvestris\",$BH$2,IF($A$2=\"pinus pinaster\",$BH$3,IF($A$2=\"pinus radiata\",$BH$4,IF($A$2=\"pinus pinea\",$BH$5,0))))","v":0},{"$f":"IF($A$2=\"pinus sylvestris\",$BI$2,IF($A$2=\"pinus pinaster\",$BI$3,IF($A$2=\"pinus radiata\",$BI$4,IF($A$2=\"pinus pinea\",$BI$5,0))))","v":0},{"$f":"IF($A$2=\"pinus sylvestris\",$BJ$2,IF($A$2=\"pinus pinaster\",$BJ$3,IF($A$2=\"pinus radiata\",$BJ$4,IF($A$2=\"pinus pinea\",$BJ$5,0))))","v":0},{"$f":"IF($A$2=\"pinus sylvestris\",$BK$2,IF($A$2=\"pinus pinaster\",$BK$3,IF($A$2=\"pinus radiata\",$BK$4,IF($A$2=\"pinus pinea\",$BK$5,0))))","v":0},{"$f":"IF($A$2=\"pinus sylvestris\",$BL$2,IF($A$2=\"pinus pinaster\",$BL$3,IF($A$2=\"pinus radiata\",$BL$4,IF($A$2=\"pinus pinea\",$BL$5,0))))","v":0},{"$f":"IF($A$2=\"pinus sylvestris\",$BM$2,IF($A$2=\"pinus pinaster\",$BM$3,IF($A$2=\"pinus radiata\",$BM$4,IF($A$2=\"pinus pinea\",$BM$5,0))))","v":0},null,null,{"$f":"IF(G2>1.9999,G2,0)","v":0},{"$f":"AL2-AL1","v":0},{"$f":"IF(AM2=AL2,AL2,0)","v":0},{"$f":"IF(AN2=0,\"\",AN2)","v":""},{"$f":"SUM($AO$2:$AO$20)","v":0},{"$f":"IF(AN2=0,\"\",E2)","v":""},{"$f":"SUM($AQ$2:$AQ$20)","v":0},null,null,null,{"$f":"IF(G2>0.9999,G2,0)","v":0},{"$f":"AV2-AV1","v":0},{"$f":"IF(AW2=AV2,AV2,0)","v":0},{"$f":"IF(AX2=0,\"\",AX2)","v":""},{"$f":"SUM($AY$2:$AY$20)","v":0},{"$f":"IF(AX2=0,\"\",E2)","v":""},{"$f":"SUM($BA$2:$BA$20)","v":0},null,null,"Pinus sylvestris",0.46140300000000001,0.88744599999999996,8.2284999999999997E-2,-1.33216,0,-7.0919999999999997E-2,8.0643999999999993E-2,0,21,null,null,0,"Aptitud muy alta (muy apta para ejecución de quemas)",0,"Vulnerabilidad baja a incendios de superficie"]
[null,null,null,0.9,{"$f":"D3*$C$2","v":0},{"$f":"2*(I3+J3+K3-L3)","v":{"$error":"#DIV/0!"}},0,{"$f":"F3/M3","v":{"$error":"#DIV/0!"}},{"$error":"#DIV/0!"},{"$f":"($B$2/2-$AB$2*$B$2)*(1-1/(1-EXP($AC$2*(1.3-$C$2))))","v":{"$error":"#DIV/0!"}},{"$f":"EXP(-$AC$2*E3)*(($B$2/2-$AB$2*$B$2)*EXP(1.3*$AC$2)/(1-EXP($AC$2*(1.3-$C$2))))","v":{"$error":"#DIV/0!"}},{"$error":"#DIV/0!"},2,{"$error":"#DIV/0!"},0,{"$f":"$AE$2","v":0},-4.5757490560675115E-2,{"$f":"P3*Q3","v":0},0,0,{"$f":"(O3+R3+S3+T3)","v":0},{"$f":"IF(U3<=0,0,U3/10)","v":0},20,{"$f":"W3/$AE$2","v":{"$error":"#DIV/0!"}},{"$f":"EXP(X3)","v":{"$error":"#DIV/0!"}},{"$f":"Y3*$C$2","v":{"$error":"#DIV/0!"}},null,null,null,null,null,null,null,null,null,null,null,{"$f":"IF(G3>1.9999,G3,0)","v":0},{"$f":"AL3-AL2","v":0},{"$f":"IF(AM3=AL3,AL3,0)","v":0},{"$f":"IF(AN3=0,\"\",AN3)","v":""},{"$f":"SUM($AO$2:$AO$20)","v":0},"",{"$f":"SUM($AQ$2:$AQ$20)","v":0},null,null,null,{"$f":"IF(G3>0.9999,G3,0)","v":0},{"$f":"AV3-AV2","v":0},{"$f":"IF(AW3=AV3,AV3,0)","v":0},{"$f":"IF(AX3=0,\"\",AX3)","v":""},{"$f":"SUM($AY$2:$AY$20)","v":0},{"$f":"IF(AX3=0,\"\",E3)","v":""},{"$f":"SUM($BA$2:$BA$20)","v":0},null,null,"Pinus pinaster",0.40364100000000003,0.64208399999999999,9.5017000000000004E-2,-2.30816,0,-1.282E-2,3.7797999999999998E-2,0,26,null,null,1,"Aptitud alta (apta para ejecución de quemas)",1,"Vulnerabilidad media a incendios de superficie"]
[null,null,null,0.85,0,{"$error":"#DIV/0!"},0,{"$error":"#DIV/0!"},{"$error":"#DIV/0!"},{"$error":"#DIV/0!"},{"$error":"#DIV/0!"},{"$error":"#DIV/0!"},2,{"$error":"#DIV/0!"},0,0,-7.0581074285707285E-2,0,0,0,0,0,20,{"$error":"#DIV/0!"},{"$error":"#DIV/0!"},{"$error":"#DIV/0!"},null,null,null,null,null,null,null,null,null,null,null,0,{"$f":"AL4-AL3","v":0},0,"",{"$f":"SUM($AO$2:$AO$20)","v":0},"",0,null,null,null,0,{"$f":"AV4-AV3","v":0},0,"",0,"",0,null,null,"Pinus radiata",0.45861000000000002,1.008024,4.6612000000000001E-2,-3.4050699999999998,0,-1.14E-2,7.0245000000000002E-2,0,28,null,null,2,"Aptitud media (apta para ejecución de quemas con restricciones)",2,"Vulnerabilidad alta a incendios de superficie"]
[null,null,null,0.8,0,{"$error":"#DIV/0!"},0,{"$error":"#DIV/0!"},{"$error":"#DIV/0!"},{"$error":"#DIV/0!"},{"$error":"#DIV/0!"},{"$error":"#DIV/0!"},2,{"$error":"#DIV/0!"},0,0,-9.6910013008056392E-2,0,0,0,0,0,20,{"$error":"#DIV/0!"},{"$error":"#DIV/0!"},{"$error":"#DIV/0!"},null,null,null,null,null,null,null,null,null,null,null,0,{"$f":"AL5-AL4","v":0},0,"",0,"",0,null,null,null,0,{"$f":"AV5-AV4","v":0},0,"",0,"",0,null,null,"Pinus pinea",0,0,0,-9.9301999999999992,0.6764,-0.72209999999999996,0,-3.9174000000000002,23,null,null,3,"Aptitud baja (apta para ejecución de quemas con restricciones)",3,"Vulnerabilidad muy alta a incendios de superficie"]
[null,null,null,0.75,0,{"$error":"#DIV/0!"},0,{"$error":"#DIV/0!"},{"$error":"#DIV/0!"},{"$error":"#DIV/0!"},{"$error":"#DIV/0!"},{"$error":"#DIV/0!"},2,{"$error":"#DIV/0!"},0,0,-0.12493873660829995,0,0,0,0,0,20,{"$error":"#DIV/0!"},{"$error":"#DIV/0!"},{"$error":"#DIV/0!"},null,null,null,null,null,null,null,null,null,null,null,0,0,0,"",0,"",0,null,null,null,0,0,0,"",0,"",0,null,null,null,null,null,null,null,null,null,null,null,null,null,null,4,"Aptitud muy baja  (poco apta para ejecución de quemas prescritas)",4,"Vulnerabilidad extrema a incendios de superficie"]
[null,null,null,0.7,0,{"$error":"#DIV/0!"},0,{"$error":"#DIV/0!"},{"$error":"#DIV/0!"},{"$error":"#DIV/0!"},{"$error":"#DIV/0!"},{"$error":"#DIV/0!"},2,{"$error":"#DIV/0!"},0,0,-0.15490195998574319,0,0,0,0,0,20,{"$error":"#DIV/0!"},{"$error":"#DIV/0!"},{"$error":"#DIV/0!"},null,null,null,null,null,null,null,null,null,null,null,0,0,0,"",0,"",0,null,null,null,0,0,0,"",0,"",0]
[null,null,null,0.65,0,{"$error":"#DIV/0!"},0,{"$error":"#DIV/0!"},{"$error":"#DIV/0!"},{"$error":"#DIV/0!"},{"$error":"#DIV/0!"},{"$error":"#DIV/0!"},2,{"$error":"#DIV/0!"},0,0,-0.18708664335714442,0,0,0,0,0,20,{"$error":"#DIV/0!"},{"$error":"#DIV/0!"},{"$error":"#DIV/0!"},null,null,null,null,null,null,null,null,null,null,null,0,0,0,"",0,"",0,null,null,null,0,0,0,"",0,"",0]
[null,null,null,0.6,0,{"$error":"#DIV/0!"},0,{"$error":"#DIV/0!"},{"$error":"#DIV/0!"},{"$error":"#DIV/0!"},{"$error":"#DIV/0!"},{"$error":"#DIV/0!"},2,{"$error":"#DIV/0!"},0,0,-0.22184874961635639,0,0,0,0,0,20,{"$error":"#DIV/0!"},{"$error":"#DIV/0!"},{"$error":"#DIV/0!"},null,null,null,null,null,null,null,null,null,null,null,0,0,0,"",0,"",0,null,null,null,0,0,0,"",0,"",0]
[null,null,null,0.55000000000000004,0,{"$error":"#DIV/0!"},0,{"$error":"#DIV/0!"},{"$error":"#DIV/0!"},{"$error":"#DIV/0!"},{"$error":"#DIV/0!"},{"$error":"#DIV/0!"},2,{"$error":"#DIV/0!"},0,0,-0.25963731050575611,0,0,0,0,0,20,{"$error":"#DIV/0!"},{"$error":"#DIV/0!"},{"$error":"#DIV/0!"},null,null,null,null,null,null,null,null,null,null,null,0,0,0,"",0,"",0,null,null,null,0,0,0,"",0,"",0]
[null,null,null,0.5,0,{"$error":"#DIV/0!"},0,{"$error":"#DIV/0!"},{"$error":"#DIV/0!"},{"$error":"#DIV/0!"},{"$error":"#DIV/0!"},{"$error":"#DIV/0!"},2,{"$error":"#DIV/0!"},0,0,-0.3010299956639812,0,0,0,0,0,20,{"$error":"#DIV/0!"},{"$error":"#DIV/0!"},{"$error":"#DIV/0!"},null,null,null,null,null,null,null,null,null,null,null,0,0,0,"",0,"",0,null,null,null,0,0,0,"",0,"",0]
[null,null,null,0.45,0,{"$error":"#DIV/0!"},0,{"$error":"#DIV/0!"},{"$error":"#DIV/0!"},{"$error":"#DIV/0!"},{"$error":"#DIV/0!"},{"$error":"#DIV/0!"},2,{"$error":"#DIV/0!"},0,0,-0.34678748622465633,0,0,0,0,0,20,{"$error":"#DIV/0!"},{"$error":"#DIV/0!"},{"$error":"#DIV/0!"},null,null,null,null,null,null,null,null,null,null,null,0,0,0,"",0,"",0,null,null,null,0,0,0,"",0,"",0]
[null,null,null,0.4,0,{"$error":"#DIV/0!"},0,{"$error":"#DIV/0!"},{"$error":"#DIV/0!"},{"$error":"#DIV/0!"},{"$error":"#DIV/0!"},{"$error":"#DIV/0!"},2,{"$error":"#DIV/0!"},0,0,-0.3979400086720376,0,0,0,0,0,20,{"$error":"#DIV/0!"},{"$error":"#DIV/0!"},{"$error":"#DIV/0!"},null,null,null,null,null,null,null,null,null,null,null,0,0,0,"",0,"",0,null,null,null,0,0,0,"",0,"",0]
[null,null,null,0.35,0,{"$error":"#DIV/0!"},0,{"$error":"#DIV/0!"},{"$error":"#DIV/0!"},{"$error":"#DIV/0!"},{"$error":"#DIV/0!"},{"$error":"#DIV/0!"},2,{"$error":"#DIV/0!"},0,0,-0.45593195564972439,0,0,0,0,0,20,{"$error":"#DIV/0!"},{"$error":"#DIV/0!"},{"$error":"#DIV/0!"},null,null,null,null,null,null,null,null,null,null,null,0,0,0,"",0,"",0,null,null,null,0,0,0,"",0,"",0]
[null,null,null,0.3,0,{"$error":"#DIV/0!"},0,{"$error":"#DIV/0!"},{"$error":"#DIV/0!"},{"$error":"#DIV/0!"},{"$error":"#DIV/0!"},{"$error":"#DIV/0!"},2,{"$error":"#DIV/0!"},0,0,-0.52287874528033762,0,0,0,0,0,20,{"$error":"#DIV/0!"},{"$error":"#DIV/0!"},{"$error":"#DIV/0!"},null,null,null,null,null,null,null,null,null,null,null,0,0,0,"",0,"",0,null,null,null,0,0,0,"",0,"",0]
[null,null,null,0.25,0,{"$error":"#DIV/0!"},0,{"$error":"#DIV/0!"},{"$error":"#DIV/0!"},{"$error":"#DIV/0!"},{"$error":"#DIV/0!"},{"$error":"#DIV/0!"},2,{"$error":"#DIV/0!"},0,0,-0.6020599913279624,0,0,0,0,0,20,{"$error":"#DIV/0!"},{"$error":"#DIV/0!"},{"$error":"#DIV/0!"},null,null,null,null,null,null,null,null,null,null,null,0,0,0,"",0,"",0,null,null,null,0,0,0,"",0,"",0]
[null,null,null,0.2,0,{"$error":"#DIV/0!"},0,{"$error":"#DIV/0!"},{"$error":"#DIV/0!"},{"$error":"#DIV/0!"},{"$error":"#DIV/0!"},{"$error":"#DIV/0!"},2,{"$error":"#DIV/0!"},0,0,-0.69897000433601875,0,0,0,0,0,20,{"$error":"#DIV/0!"},{"$error":"#DIV/0!"},{"$error":"#DIV/0!"},null,null,null,null,null,null,null,null,null,null,null,0,0,0,"",0,"",0,null,null,null,0,0,0,"",0,"",0]
[null,null,null,0.15,0,{"$error":"#DIV/0!"},0,{"$error":"#DIV/0!"},{"$error":"#DIV/0!"},{"$error":"#DIV/0!"},{"$error":"#DIV/0!"},{"$error":"#DIV/0!"},2,{"$error":"#DIV/0!"},0,0,-0.82390874094431876,0,0,0,0,0,20,{"$error":"#DIV/0!"},{"$error":"#DIV/0!"},{"$error":"#DIV/0!"},null,null,null,null,null,null,null,null,null,null,null,0,0,0,"",0,"",0,null,null,null,0,0,0,"",0,"",0]
[null,null,null,0.1,0,{"$error":"#DIV/0!"},0,{"$error":"#DIV/0!"},{"$error":"#DIV/0!"},{"$error":"#DIV/0!"},{"$error":"#DIV/0!"},{"$error":"#DIV/0!"},2,{"$error":"#DIV/0!"},0,0,-1,0,0,0,0,0,20,{"$error":"#DIV/0!"},{"$error":"#DIV/0!"},{"$error":"#DIV/0!"},null,null,null,null,null,null,null,null,null,null,null,0,0,0,"",0,"",0,null,null,null,0,0,0,"",0,"",0]
[null,null,null,0.05,0,{"$error":"#DIV/0!"},0,{"$error":"#DIV/0!"},{"$error":"#DIV/0!"},{"$error":"#DIV/0!"},{"$error":"#DIV/0!"},{"$error":"#DIV/0!"},2,{"$error":"#DIV/0!"},0,0,-1.3010299956639813,0,0,0,0,0,20,{"$error":"#DIV/0!"},{"$error":"#DIV/0!"},{"$error":"#DIV/0!"},null,null,null,null,null,null,null,null,null,null,null,0,0,0,"",0,"",0,{"$f":"AR20","v":0},{"$f":"AS20","v":0},{"$f":"IF(AP20=0,-0.01,AT20+0.0001)","v":-0.01},0,0,0,"",0,"",0,{"$f":"BB20","v":0},{"$f":"BC20","v":0},{"$f":"IF(AZ20=0,-0.01,BD20+0.0001)","v":-0.01}]
[null,null,null,null,null,null,null,null,null,null,null,null,null,null,null,null,null,null,null,null,null,null,null,null,null,null,null,null,null,null,null,null,null,null,null,null,null,null,null,null,null,null,null,null,{"$f":"IF(AS20=0,\"El espesor no llega a 2 cm\",AS20)","v":"El espesor no llega a 2 cm"},null,null,null,null,null,null,null,null,null,{"$f":"IF(BC20=0,\"El espesor no llega a 1 cm\",BC20)","v":"El espesor no llega a 1 cm"}]
[null,null,null,null,null,null,null,null,null,null,null,null,null,null,null,null,null,null,null,null,null,null,null,null,null,null,null,null,null,null,null,null,null,null,null,null,null,null,null,null,null,null,null,null,{"$f":"IF(AS21=\"El espesor no llega a 2 cm\",0,AS21+0.001)","v":0},null,null,null,null,null,null,null,null,null,{"$f":"IF(BC21=\"El espesor no llega a 1 cm\",0,BC21+0.001)","v":0}]
[null,null,null,null,null,null,null,null,null,null,null,null,null,null,null,null,null,null,null,null,null,null,null,null,null,null,null,null,null,null,null,null,null,null,null,null,null,null,null,null,null,null,null,null,{"$f":"IF(AS22<=1,4,IF(AND(AS22>1,AS22<=2),3,IF(AND(AS22>2,AS22<=3),2,IF(AND(AS22>3,AS22<=4),1,0))))","v":4},null,null,null,null,null,null,null,null,null,{"$f":"IF(BC22<=1,4,IF(AND(BC22>1,BC22<=2),3,IF(AND(BC22>2,BC22<=3),2,IF(AND(BC22>3,BC22<=4),1,0))))","v":4}]
[null,null,null,null,null,null,null,null,null,null,null,null,null,null,null,null,null,null,null,null,null,null,null,null,null,null,null,null,null,null,null,null,null,null,null,null,null,null,null,null,null,null,null,null,{"$f":"VLOOKUP(AS23,BS2:BT6,2,FALSE)","v":"Vulnerabilidad extrema a incendios de superficie"},null,null,null,null,null,null,null,null,null,{"$f":"VLOOKUP(BC23,BQ2:BR6,2,FALSE)","v":"Aptitud muy baja  (poco apta para ejecución de quemas prescritas)"}]
[]
[]
[null,null,null,null,"codigo de especies de inventario forestal"]